BEGIN:VCALENDAR
VERSION:2.0
PRODID:-//BRYO - ECPv6.15.20//NONSGML v1.0//EN
CALSCALE:GREGORIAN
METHOD:PUBLISH
X-ORIGINAL-URL:https://bryo.org.au
X-WR-CALDESC:Events for BRYO
REFRESH-INTERVAL;VALUE=DURATION:PT1H
X-Robots-Tag:noindex
X-PUBLISHED-TTL:PT1H
BEGIN:VTIMEZONE
TZID:Australia/Brisbane
BEGIN:STANDARD
TZOFFSETFROM:+1000
TZOFFSETTO:+1000
TZNAME:AEST
DTSTART:20220101T000000
END:STANDARD
END:VTIMEZONE
BEGIN:VEVENT
DTSTART;TZID=Australia/Brisbane:20251128T190000
DTEND;TZID=Australia/Brisbane:20251128T203000
DTSTAMP:20260426T050549
CREATED:20251101T134726Z
LAST-MODIFIED:20251101T135444Z
UID:10001119-1764356400-1764361800@bryo.org.au
SUMMARY:Christmas Concert 2025
DESCRIPTION:Join Bryo for a Christmas Concert at St. John’s Cathedral.
URL:https://bryo.org.au/event/christmas-concert-2025/
LOCATION:St John’s Cathedral\, 373 Anne St\, Brisbane\, Queensland\, Australia
CATEGORIES:Concert
END:VEVENT
BEGIN:VEVENT
DTSTART;TZID=Australia/Brisbane:20241130T190000
DTEND;TZID=Australia/Brisbane:20241130T203000
DTSTAMP:20260426T050549
CREATED:20240827T104658Z
LAST-MODIFIED:20250423T014152Z
UID:10001107-1732993200-1732998600@bryo.org.au
SUMMARY:Symphony Christmas Concert
DESCRIPTION:Join Bryo for a Christmas Concert at St. John’s Cathedral. \n  \nPlaying Bryo classics and some new favourites\, Bryo will also be joined by singer Dennis Knight. \n  \nClick here for more info on Dennis Knight.
URL:https://bryo.org.au/event/christmas-concert/
LOCATION:St John’s Cathedral\, 373 Anne St\, Brisbane\, Queensland\, Australia
CATEGORIES:Concert
END:VEVENT
BEGIN:VEVENT
DTSTART;TZID=Australia/Brisbane:20231124T190000
DTEND;TZID=Australia/Brisbane:20231124T210000
DTSTAMP:20260426T050549
CREATED:20230122T021304Z
LAST-MODIFIED:20230913T075230Z
UID:10001083-1700852400-1700859600@bryo.org.au
SUMMARY:A Christmas Festival - BRYO at St John's
DESCRIPTION:Join us for a wonderful evening of Orchestral Christmas music.
URL:https://bryo.org.au/event/a-christmas-festival-bryo-at-st-johns/
LOCATION:St John’s Cathedral\, 373 Anne St\, Brisbane\, Queensland\, Australia
CATEGORIES:Concert
END:VEVENT
END:VCALENDAR