BEGIN:VCALENDAR
VERSION:2.0
PRODID:-//BRYO - ECPv6.15.20//NONSGML v1.0//EN
CALSCALE:GREGORIAN
METHOD:PUBLISH
X-ORIGINAL-URL:https://bryo.org.au
X-WR-CALDESC:Events for BRYO
REFRESH-INTERVAL;VALUE=DURATION:PT1H
X-Robots-Tag:noindex
X-PUBLISHED-TTL:PT1H
BEGIN:VTIMEZONE
TZID:Australia/Brisbane
BEGIN:STANDARD
TZOFFSETFROM:+1000
TZOFFSETTO:+1000
TZNAME:AEST
DTSTART:20220101T000000
END:STANDARD
END:VTIMEZONE
BEGIN:VEVENT
DTSTART;TZID=Australia/Brisbane:20240418T230000
DTEND;TZID=Australia/Brisbane:20240419T232959
DTSTAMP:20260425T141541
CREATED:20230728T040839Z
LAST-MODIFIED:20230728T041954Z
UID:10001089-1713481200-1713569399@bryo.org.au
SUMMARY:Scherzo Serenade
DESCRIPTION:An intimate evening of music by the Scherzo Junior Strings Ensemble.
URL:https://bryo.org.au/event/scherzo-serenade-2/
LOCATION:Seven Hills Theatre\, 28 Tallowwood St\, Seven Hills\, QLD\, Australia
CATEGORIES:Concert
END:VEVENT
BEGIN:VEVENT
DTSTART;TZID=Australia/Brisbane:20230814T180000
DTEND;TZID=Australia/Brisbane:20230814T200000
DTSTAMP:20260425T141541
CREATED:20230728T040944Z
LAST-MODIFIED:20230728T040946Z
UID:10001072-1692036000-1692043200@bryo.org.au
SUMMARY:Scherzo Serenade
DESCRIPTION:An intimate evening of music by the Scherzo Junior Strings Ensemble.
URL:https://bryo.org.au/event/scherzo-serenade-2-2/
LOCATION:Seven Hills Theatre\, 28 Tallowwood St\, Seven Hills\, QLD\, Australia
CATEGORIES:Concert
END:VEVENT
END:VCALENDAR