BEGIN:VCALENDAR
VERSION:2.0
PRODID:-//BRYO - ECPv6.15.20//NONSGML v1.0//EN
CALSCALE:GREGORIAN
METHOD:PUBLISH
X-WR-CALNAME:BRYO
X-ORIGINAL-URL:https://bryo.org.au
X-WR-CALDESC:Events for BRYO
REFRESH-INTERVAL;VALUE=DURATION:PT1H
X-Robots-Tag:noindex
X-PUBLISHED-TTL:PT1H
BEGIN:VTIMEZONE
TZID:Australia/Brisbane
BEGIN:STANDARD
TZOFFSETFROM:+1000
TZOFFSETTO:+1000
TZNAME:AEST
DTSTART:20250101T000000
END:STANDARD
END:VTIMEZONE
BEGIN:VEVENT
DTSTART;TZID=Australia/Brisbane:20260510T140000
DTEND;TZID=Australia/Brisbane:20260510T160000
DTSTAMP:20260426T123707
CREATED:20260222T111848Z
LAST-MODIFIED:20260222T111848Z
UID:10001123-1778421600-1778428800@bryo.org.au
SUMMARY:Swoon
DESCRIPTION:Tickets to be on sale shortly.
URL:https://bryo.org.au/event/swoon/
LOCATION:Brisbane City Hall\, 64 Adelaide st\, Brisbane\, Queensland\, 4000\, Australia
CATEGORIES:Concert
END:VEVENT
END:VCALENDAR