BEGIN:VCALENDAR
VERSION:2.0
PRODID:-//BRYO - ECPv6.15.20//NONSGML v1.0//EN
CALSCALE:GREGORIAN
METHOD:PUBLISH
X-ORIGINAL-URL:https://bryo.org.au
X-WR-CALDESC:Events for BRYO
REFRESH-INTERVAL;VALUE=DURATION:PT1H
X-Robots-Tag:noindex
X-PUBLISHED-TTL:PT1H
BEGIN:VTIMEZONE
TZID:Australia/Brisbane
BEGIN:STANDARD
TZOFFSETFROM:+1000
TZOFFSETTO:+1000
TZNAME:AEST
DTSTART:20220101T000000
END:STANDARD
END:VTIMEZONE
BEGIN:VEVENT
DTSTART;TZID=Australia/Brisbane:20260227T160000
DTEND;TZID=Australia/Brisbane:20260227T170000
DTSTAMP:20260425T043444
CREATED:20260204T113138Z
LAST-MODIFIED:20260227T000356Z
UID:10001121-1772208000-1772211600@bryo.org.au
SUMMARY:2026 Camp Bus Tickets
DESCRIPTION:For camp\, there is a one-way bus provided for anyone who requires it to get to camp on Friday night.\n2 pick up points: Balmoral High School or Logan Hyperdome bus terminal.\n3:45pm arrive at Balmoral and load bus.\n4:00pm depart Balmoral High School.\n5:00pm Hyperdome bus terminal.\nThere’s only 50 seats available\, so first come\, first served. \nPlayers catching the bus will need parents to pick them up after the concert.
URL:https://bryo.org.au/event/2026-camp-bus-tickets-2/
LOCATION:Balmoral State High School\, 259 Thynne Rd\, Morningside\, Queensland\, 4170\, Australia
CATEGORIES:Camp
END:VEVENT
BEGIN:VEVENT
DTSTART;TZID=Australia/Brisbane:20260222T080000
DTEND;TZID=Australia/Brisbane:20260222T170000
DTSTAMP:20260425T043444
CREATED:20260222T112109Z
LAST-MODIFIED:20260222T112109Z
UID:10001124-1771747200-1771779600@bryo.org.au
SUMMARY:Swing
DESCRIPTION:TIME TBD \nBig Band energy\, toe-tapping groves\, and irresistible swing.
URL:https://bryo.org.au/event/swing/
LOCATION:Balmoral State High School\, 259 Thynne Rd\, Morningside\, Queensland\, 4170\, Australia
CATEGORIES:Concert
END:VEVENT
BEGIN:VEVENT
DTSTART;TZID=Australia/Brisbane:20251025T160000
DTEND;TZID=Australia/Brisbane:20251025T170000
DTSTAMP:20260425T043444
CREATED:20250630T092022Z
LAST-MODIFIED:20250630T143213Z
UID:10001114-1761408000-1761411600@bryo.org.au
SUMMARY:Friendship Concert with Ensemble Nabanga Vanuatu
DESCRIPTION:
URL:https://bryo.org.au/event/friendship-concert-with-ensemble-nabanga-vanuatu/
LOCATION:Balmoral State High School\, 259 Thynne Rd\, Morningside\, Queensland\, 4170\, Australia
CATEGORIES:Concert
END:VEVENT
BEGIN:VEVENT
DTSTART;TZID=Australia/Brisbane:20250228T160000
DTEND;TZID=Australia/Brisbane:20250228T170000
DTSTAMP:20260425T043444
CREATED:20250220T110530Z
LAST-MODIFIED:20250224T090439Z
UID:10001110-1740758400-1740762000@bryo.org.au
SUMMARY:2025 Camp Bus Tickets
DESCRIPTION:For camp\, there is a one-way bus provided for anyone who requires it to get to camp on Friday night.\n2 pick up points: Balmoral High School or Logan Hyperdome bus terminal.\n4pm arrive at Balmoral and load bus.\n4:30pm depart Balmoral High School.\n5:15pm Hyperdome bus terminal.\nThere’s only 50 seats available\, so first come\, first served.
URL:https://bryo.org.au/event/2025-camp-bus-tickets/
LOCATION:Balmoral State High School\, 259 Thynne Rd\, Morningside\, Queensland\, 4170\, Australia
CATEGORIES:Camp
END:VEVENT
BEGIN:VEVENT
DTSTART;VALUE=DATE:20241012
DTEND;VALUE=DATE:20241014
DTSTAMP:20260425T043444
CREATED:20240827T104534Z
LAST-MODIFIED:20240827T104534Z
UID:10001106-1728691200-1728863999@bryo.org.au
SUMMARY:2025 Auditions
DESCRIPTION:
URL:https://bryo.org.au/event/2025-auditions/
LOCATION:Balmoral State High School\, 259 Thynne Rd\, Morningside\, Queensland\, 4170\, Australia
END:VEVENT
BEGIN:VEVENT
DTSTART;TZID=Australia/Brisbane:20240812T191500
DTEND;TZID=Australia/Brisbane:20240812T194500
DTSTAMP:20260425T043444
CREATED:20240721T092155Z
LAST-MODIFIED:20240805T060028Z
UID:10001104-1723490100-1723491900@bryo.org.au
SUMMARY:Annual General Meeting
DESCRIPTION:Brisbane Regional Youth Orchestra\nNotice of 2024 Annual General Meeting (AGM)\n7.15 -7.45 pm Monday 12 August 2024\nBalmoral State High School Auditorium\n259 Thynne Road\, Balmoral Qld 4171 \n  \nThe business of the AGM is restricted to:\n1. Annual Report and presentation of 2023 accounts (President and Treasurer)\n2. Consideration and voting on proposed amended Constitution\n3. Election of Committee Members for 2024-25 \n  \nThe Committee is responsible for running the organisation for the benefit of members and makes the decisions required to keep us strong and successful. You must be a member to vote at the AGM (players must also be over 18 years – those under 18 are to be represented by a parent or guardian provided they are Associate Members). \n  \nThe Committee comprises a maximum of ten members and consists of:\n• a President\n• up to two Vice Presidents\n• a Treasurer\n• a Secretary\n• Three or four Ordinary Executive Members (depending upon the number of Vice Presidents elected)\n• the Director of Music\n• a Player Representative. \n  \nNote that only the first eight positions will be voted on at the AGM. The last two positions are\nex-¬officio and will be appointed by the incoming Committee. Note that you can only be nominated (and serve on the Committee) if you are a member of BRYO. Similarly\, you must be a member to nominate or second someone for a position. \n  \nShould you wish to nominate yourself or another for a Committee position please complete the attached nomination form\, and the associate membership form\, and return them to the Secretary by 7 pm on 12 August 2024. \n  \nIf you have any queries on this please contact me via text or email\, including if you can’t attend the AGM and wish a appoint a proxy to vote on your behalf. \nRegards\, \n  \nJulian Evans\nSecretary\nBrisbane Regional Youth Orchestra Inc.\nsecretary@bryo.org.au \n 
URL:https://bryo.org.au/event/annual-general-meeting/
LOCATION:Balmoral State High School\, 259 Thynne Rd\, Morningside\, Queensland\, 4170\, Australia
END:VEVENT
BEGIN:VEVENT
DTSTART;TZID=Australia/Brisbane:20240315T033000
DTEND;TZID=Australia/Brisbane:20240315T180000
DTSTAMP:20260425T043444
CREATED:20240306T053419Z
LAST-MODIFIED:20240313T100208Z
UID:10001100-1710473400-1710525600@bryo.org.au
SUMMARY:2024 Bus for Camp
DESCRIPTION:Friday 15th March 4pm leaving from Balmoral SHS (everyone needs to be there to pack the bus at 3:30pm) then 5pm leaving from Logan Hyperdome. \nThis is the booking form for the ONE WAY bus to the BRYO camp. There is no return bus as we hope your parents will come to the concert on the Sunday.
URL:https://bryo.org.au/event/2024-bus-for-camp/
LOCATION:Balmoral State High School\, 259 Thynne Rd\, Morningside\, Queensland\, 4170\, Australia
CATEGORIES:Camp
END:VEVENT
BEGIN:VEVENT
DTSTART;TZID=Australia/Brisbane:20231127T060000
DTEND;TZID=Australia/Brisbane:20231127T203000
DTSTAMP:20260425T043444
CREATED:20230120T132459Z
LAST-MODIFIED:20230728T041433Z
UID:10001068-1701064800-1701117000@bryo.org.au
SUMMARY:Rehearsal
DESCRIPTION:
URL:https://bryo.org.au/event/rehearsal/2023-11-27/
LOCATION:Balmoral State High School\, 259 Thynne Rd\, Morningside\, Queensland\, 4170\, Australia
CATEGORIES:Rehearsal
END:VEVENT
BEGIN:VEVENT
DTSTART;TZID=Australia/Brisbane:20231120T060000
DTEND;TZID=Australia/Brisbane:20231120T203000
DTSTAMP:20260425T043444
CREATED:20230120T132459Z
LAST-MODIFIED:20230728T041433Z
UID:10001067-1700460000-1700512200@bryo.org.au
SUMMARY:Rehearsal
DESCRIPTION:
URL:https://bryo.org.au/event/rehearsal/2023-11-20/
LOCATION:Balmoral State High School\, 259 Thynne Rd\, Morningside\, Queensland\, 4170\, Australia
CATEGORIES:Rehearsal
END:VEVENT
BEGIN:VEVENT
DTSTART;TZID=Australia/Brisbane:20231113T060000
DTEND;TZID=Australia/Brisbane:20231113T203000
DTSTAMP:20260425T043444
CREATED:20230120T132459Z
LAST-MODIFIED:20230728T041433Z
UID:10001066-1699855200-1699907400@bryo.org.au
SUMMARY:Rehearsal
DESCRIPTION:
URL:https://bryo.org.au/event/rehearsal/2023-11-13/
LOCATION:Balmoral State High School\, 259 Thynne Rd\, Morningside\, Queensland\, 4170\, Australia
CATEGORIES:Rehearsal
END:VEVENT
BEGIN:VEVENT
DTSTART;TZID=Australia/Brisbane:20231106T060000
DTEND;TZID=Australia/Brisbane:20231106T203000
DTSTAMP:20260425T043444
CREATED:20230120T132459Z
LAST-MODIFIED:20230728T041433Z
UID:10001065-1699250400-1699302600@bryo.org.au
SUMMARY:Rehearsal
DESCRIPTION:
URL:https://bryo.org.au/event/rehearsal/2023-11-06/
LOCATION:Balmoral State High School\, 259 Thynne Rd\, Morningside\, Queensland\, 4170\, Australia
CATEGORIES:Rehearsal
END:VEVENT
BEGIN:VEVENT
DTSTART;TZID=Australia/Brisbane:20231030T060000
DTEND;TZID=Australia/Brisbane:20231030T203000
DTSTAMP:20260425T043444
CREATED:20230120T132459Z
LAST-MODIFIED:20230728T041433Z
UID:10001064-1698645600-1698697800@bryo.org.au
SUMMARY:Rehearsal
DESCRIPTION:
URL:https://bryo.org.au/event/rehearsal/2023-10-30/
LOCATION:Balmoral State High School\, 259 Thynne Rd\, Morningside\, Queensland\, 4170\, Australia
CATEGORIES:Rehearsal
END:VEVENT
BEGIN:VEVENT
DTSTART;TZID=Australia/Brisbane:20231023T060000
DTEND;TZID=Australia/Brisbane:20231023T203000
DTSTAMP:20260425T043444
CREATED:20230120T132459Z
LAST-MODIFIED:20230728T041433Z
UID:10001063-1698040800-1698093000@bryo.org.au
SUMMARY:Rehearsal
DESCRIPTION:
URL:https://bryo.org.au/event/rehearsal/2023-10-23/
LOCATION:Balmoral State High School\, 259 Thynne Rd\, Morningside\, Queensland\, 4170\, Australia
CATEGORIES:Rehearsal
END:VEVENT
BEGIN:VEVENT
DTSTART;VALUE=DATE:20231022
DTEND;VALUE=DATE:20231023
DTSTAMP:20260425T043444
CREATED:20230122T021036Z
LAST-MODIFIED:20230122T021036Z
UID:10001082-1697932800-1698019199@bryo.org.au
SUMMARY:2024 Auditions due
DESCRIPTION:
URL:https://bryo.org.au/event/2024-auditions-due/
LOCATION:Balmoral State High School\, 259 Thynne Rd\, Morningside\, Queensland\, 4170\, Australia
END:VEVENT
BEGIN:VEVENT
DTSTART;TZID=Australia/Brisbane:20231016T060000
DTEND;TZID=Australia/Brisbane:20231016T203000
DTSTAMP:20260425T043444
CREATED:20230120T132459Z
LAST-MODIFIED:20230728T041433Z
UID:10001062-1697436000-1697488200@bryo.org.au
SUMMARY:Rehearsal
DESCRIPTION:
URL:https://bryo.org.au/event/rehearsal/2023-10-16/
LOCATION:Balmoral State High School\, 259 Thynne Rd\, Morningside\, Queensland\, 4170\, Australia
CATEGORIES:Rehearsal
END:VEVENT
BEGIN:VEVENT
DTSTART;TZID=Australia/Brisbane:20231009T060000
DTEND;TZID=Australia/Brisbane:20231009T203000
DTSTAMP:20260425T043444
CREATED:20230120T132459Z
LAST-MODIFIED:20230728T041433Z
UID:10001061-1696831200-1696883400@bryo.org.au
SUMMARY:Rehearsal
DESCRIPTION:
URL:https://bryo.org.au/event/rehearsal/2023-10-09/
LOCATION:Balmoral State High School\, 259 Thynne Rd\, Morningside\, Queensland\, 4170\, Australia
CATEGORIES:Rehearsal
END:VEVENT
BEGIN:VEVENT
DTSTART;TZID=Australia/Brisbane:20230918T180000
DTEND;TZID=Australia/Brisbane:20230918T203000
DTSTAMP:20260425T043444
CREATED:20230728T041703Z
LAST-MODIFIED:20230728T041705Z
UID:10001097-1695060000-1695069000@bryo.org.au
SUMMARY:Tour Orchestra Rehearsal
DESCRIPTION:
URL:https://bryo.org.au/event/tour-orchestra-rehearsal-2/2023-09-18/
LOCATION:Balmoral State High School\, 259 Thynne Rd\, Morningside\, Queensland\, 4170\, Australia
CATEGORIES:Rehearsal
END:VEVENT
BEGIN:VEVENT
DTSTART;TZID=Australia/Brisbane:20230911T180000
DTEND;TZID=Australia/Brisbane:20230911T203000
DTSTAMP:20260425T043444
CREATED:20230728T041703Z
LAST-MODIFIED:20230728T041705Z
UID:10001081-1694455200-1694464200@bryo.org.au
SUMMARY:Tour Orchestra Rehearsal
DESCRIPTION:
URL:https://bryo.org.au/event/tour-orchestra-rehearsal-2/2023-09-11/
LOCATION:Balmoral State High School\, 259 Thynne Rd\, Morningside\, Queensland\, 4170\, Australia
CATEGORIES:Rehearsal
END:VEVENT
BEGIN:VEVENT
DTSTART;TZID=Australia/Brisbane:20230904T060000
DTEND;TZID=Australia/Brisbane:20230904T203000
DTSTAMP:20260425T043444
CREATED:20230120T132459Z
LAST-MODIFIED:20230728T041433Z
UID:10001096-1693807200-1693859400@bryo.org.au
SUMMARY:Rehearsal
DESCRIPTION:
URL:https://bryo.org.au/event/rehearsal/2023-09-04/
LOCATION:Balmoral State High School\, 259 Thynne Rd\, Morningside\, Queensland\, 4170\, Australia
CATEGORIES:Rehearsal
END:VEVENT
BEGIN:VEVENT
DTSTART;TZID=Australia/Brisbane:20230828T060000
DTEND;TZID=Australia/Brisbane:20230828T203000
DTSTAMP:20260425T043444
CREATED:20230120T132459Z
LAST-MODIFIED:20230728T041433Z
UID:10001095-1693202400-1693254600@bryo.org.au
SUMMARY:Rehearsal
DESCRIPTION:
URL:https://bryo.org.au/event/rehearsal/2023-08-28/
LOCATION:Balmoral State High School\, 259 Thynne Rd\, Morningside\, Queensland\, 4170\, Australia
CATEGORIES:Rehearsal
END:VEVENT
BEGIN:VEVENT
DTSTART;TZID=Australia/Brisbane:20230821T060000
DTEND;TZID=Australia/Brisbane:20230821T203000
DTSTAMP:20260425T043444
CREATED:20230120T132459Z
LAST-MODIFIED:20230728T041433Z
UID:10001094-1692597600-1692649800@bryo.org.au
SUMMARY:Rehearsal
DESCRIPTION:
URL:https://bryo.org.au/event/rehearsal/2023-08-21/
LOCATION:Balmoral State High School\, 259 Thynne Rd\, Morningside\, Queensland\, 4170\, Australia
CATEGORIES:Rehearsal
END:VEVENT
BEGIN:VEVENT
DTSTART;TZID=Australia/Brisbane:20230814T060000
DTEND;TZID=Australia/Brisbane:20230814T203000
DTSTAMP:20260425T043444
CREATED:20230120T132459Z
LAST-MODIFIED:20230728T041433Z
UID:10001093-1691992800-1692045000@bryo.org.au
SUMMARY:Rehearsal
DESCRIPTION:
URL:https://bryo.org.au/event/rehearsal/2023-08-14/
LOCATION:Balmoral State High School\, 259 Thynne Rd\, Morningside\, Queensland\, 4170\, Australia
CATEGORIES:Rehearsal
END:VEVENT
BEGIN:VEVENT
DTSTART;TZID=Australia/Brisbane:20230807T060000
DTEND;TZID=Australia/Brisbane:20230807T203000
DTSTAMP:20260425T043444
CREATED:20230120T132459Z
LAST-MODIFIED:20230728T041433Z
UID:10001092-1691388000-1691440200@bryo.org.au
SUMMARY:Rehearsal
DESCRIPTION:
URL:https://bryo.org.au/event/rehearsal/2023-08-07/
LOCATION:Balmoral State High School\, 259 Thynne Rd\, Morningside\, Queensland\, 4170\, Australia
CATEGORIES:Rehearsal
END:VEVENT
BEGIN:VEVENT
DTSTART;TZID=Australia/Brisbane:20230731T060000
DTEND;TZID=Australia/Brisbane:20230731T203000
DTSTAMP:20260425T043444
CREATED:20230120T132459Z
LAST-MODIFIED:20230728T041433Z
UID:10001060-1690783200-1690835400@bryo.org.au
SUMMARY:Rehearsal
DESCRIPTION:
URL:https://bryo.org.au/event/rehearsal/2023-07-31/
LOCATION:Balmoral State High School\, 259 Thynne Rd\, Morningside\, Queensland\, 4170\, Australia
CATEGORIES:Rehearsal
END:VEVENT
BEGIN:VEVENT
DTSTART;TZID=Australia/Brisbane:20230724T060000
DTEND;TZID=Australia/Brisbane:20230724T203000
DTSTAMP:20260425T043444
CREATED:20230120T132459Z
LAST-MODIFIED:20230728T041433Z
UID:10001059-1690178400-1690230600@bryo.org.au
SUMMARY:Rehearsal
DESCRIPTION:
URL:https://bryo.org.au/event/rehearsal/2023-07-24/
LOCATION:Balmoral State High School\, 259 Thynne Rd\, Morningside\, Queensland\, 4170\, Australia
CATEGORIES:Rehearsal
END:VEVENT
BEGIN:VEVENT
DTSTART;TZID=Australia/Brisbane:20230717T060000
DTEND;TZID=Australia/Brisbane:20230717T203000
DTSTAMP:20260425T043444
CREATED:20230120T132459Z
LAST-MODIFIED:20230728T041433Z
UID:10001058-1689573600-1689625800@bryo.org.au
SUMMARY:Rehearsal
DESCRIPTION:
URL:https://bryo.org.au/event/rehearsal/2023-07-17/
LOCATION:Balmoral State High School\, 259 Thynne Rd\, Morningside\, Queensland\, 4170\, Australia
CATEGORIES:Rehearsal
END:VEVENT
BEGIN:VEVENT
DTSTART;TZID=Australia/Brisbane:20230710T060000
DTEND;TZID=Australia/Brisbane:20230710T203000
DTSTAMP:20260425T043444
CREATED:20230120T132459Z
LAST-MODIFIED:20230728T041433Z
UID:10001057-1688968800-1689021000@bryo.org.au
SUMMARY:Rehearsal
DESCRIPTION:
URL:https://bryo.org.au/event/rehearsal/2023-07-10/
LOCATION:Balmoral State High School\, 259 Thynne Rd\, Morningside\, Queensland\, 4170\, Australia
CATEGORIES:Rehearsal
END:VEVENT
BEGIN:VEVENT
DTSTART;TZID=Australia/Brisbane:20230612T060000
DTEND;TZID=Australia/Brisbane:20230612T203000
DTSTAMP:20260425T043444
CREATED:20230120T132459Z
LAST-MODIFIED:20230728T041433Z
UID:10001055-1686549600-1686601800@bryo.org.au
SUMMARY:Rehearsal
DESCRIPTION:
URL:https://bryo.org.au/event/rehearsal/2023-06-12/
LOCATION:Balmoral State High School\, 259 Thynne Rd\, Morningside\, Queensland\, 4170\, Australia
CATEGORIES:Rehearsal
END:VEVENT
BEGIN:VEVENT
DTSTART;TZID=Australia/Brisbane:20230605T060000
DTEND;TZID=Australia/Brisbane:20230605T203000
DTSTAMP:20260425T043444
CREATED:20230120T132459Z
LAST-MODIFIED:20230728T041433Z
UID:10001054-1685944800-1685997000@bryo.org.au
SUMMARY:Rehearsal
DESCRIPTION:
URL:https://bryo.org.au/event/rehearsal/2023-06-05/
LOCATION:Balmoral State High School\, 259 Thynne Rd\, Morningside\, Queensland\, 4170\, Australia
CATEGORIES:Rehearsal
END:VEVENT
BEGIN:VEVENT
DTSTART;TZID=Australia/Brisbane:20230529T060000
DTEND;TZID=Australia/Brisbane:20230529T203000
DTSTAMP:20260425T043444
CREATED:20230120T132459Z
LAST-MODIFIED:20230728T041433Z
UID:10001053-1685340000-1685392200@bryo.org.au
SUMMARY:Rehearsal
DESCRIPTION:
URL:https://bryo.org.au/event/rehearsal/2023-05-29/
LOCATION:Balmoral State High School\, 259 Thynne Rd\, Morningside\, Queensland\, 4170\, Australia
CATEGORIES:Rehearsal
END:VEVENT
END:VCALENDAR